BEGIN:VCALENDAR
VERSION:2.0
PRODID:-//Ridlington Parish Council - ECPv6.15.20//NONSGML v1.0//EN
CALSCALE:GREGORIAN
METHOD:PUBLISH
X-WR-CALNAME:Ridlington Parish Council
X-ORIGINAL-URL:https://www.ridlingtonparishcouncil.org
X-WR-CALDESC:Events for Ridlington Parish Council
REFRESH-INTERVAL;VALUE=DURATION:PT1H
X-Robots-Tag:noindex
X-PUBLISHED-TTL:PT1H
BEGIN:VTIMEZONE
TZID:Europe/London
BEGIN:DAYLIGHT
TZOFFSETFROM:+0000
TZOFFSETTO:+0100
TZNAME:BST
DTSTART:20240331T010000
END:DAYLIGHT
BEGIN:STANDARD
TZOFFSETFROM:+0100
TZOFFSETTO:+0000
TZNAME:GMT
DTSTART:20241027T010000
END:STANDARD
BEGIN:DAYLIGHT
TZOFFSETFROM:+0000
TZOFFSETTO:+0100
TZNAME:BST
DTSTART:20250330T010000
END:DAYLIGHT
BEGIN:STANDARD
TZOFFSETFROM:+0100
TZOFFSETTO:+0000
TZNAME:GMT
DTSTART:20251026T010000
END:STANDARD
BEGIN:DAYLIGHT
TZOFFSETFROM:+0000
TZOFFSETTO:+0100
TZNAME:BST
DTSTART:20260329T010000
END:DAYLIGHT
BEGIN:STANDARD
TZOFFSETFROM:+0100
TZOFFSETTO:+0000
TZNAME:GMT
DTSTART:20261025T010000
END:STANDARD
END:VTIMEZONE
BEGIN:VEVENT
DTSTART;TZID=Europe/London:20250830T063000
DTEND;TZID=Europe/London:20250830T220000
DTSTAMP:20260423T201716
CREATED:20250521T113403Z
LAST-MODIFIED:20250630T070142Z
UID:8998-1756535400-1756591200@www.ridlingtonparishcouncil.org
SUMMARY:SAFARI SUPPER - CANCELLED
DESCRIPTION:We have decided to hold a Safari Supper. \nThank you to those of you who have offered to do a course or come along. \nThere are still plenty of places left\, so come along for good company and delicious food. Finer details later . \nPlease contact Pat Roome on 01572 821416 or email pat.roome@btinternet.com if you wish to attend.
URL:https://www.ridlingtonparishcouncil.org/event/safari-supper/
LOCATION:Ridlington Village Hall\, Main Street\, Ridlington\, Rutland\, United Kingdom
CATEGORIES:Village Hall
END:VEVENT
END:VCALENDAR