BEGIN:VCALENDAR
VERSION:2.0
PRODID:-//Ridlington Parish Council - ECPv6.15.20//NONSGML v1.0//EN
CALSCALE:GREGORIAN
METHOD:PUBLISH
X-ORIGINAL-URL:https://www.ridlingtonparishcouncil.org
X-WR-CALDESC:Events for Ridlington Parish Council
REFRESH-INTERVAL;VALUE=DURATION:PT1H
X-Robots-Tag:noindex
X-PUBLISHED-TTL:PT1H
BEGIN:VTIMEZONE
TZID:Europe/London
BEGIN:DAYLIGHT
TZOFFSETFROM:+0000
TZOFFSETTO:+0100
TZNAME:BST
DTSTART:20240331T010000
END:DAYLIGHT
BEGIN:STANDARD
TZOFFSETFROM:+0100
TZOFFSETTO:+0000
TZNAME:GMT
DTSTART:20241027T010000
END:STANDARD
BEGIN:DAYLIGHT
TZOFFSETFROM:+0000
TZOFFSETTO:+0100
TZNAME:BST
DTSTART:20250330T010000
END:DAYLIGHT
BEGIN:STANDARD
TZOFFSETFROM:+0100
TZOFFSETTO:+0000
TZNAME:GMT
DTSTART:20251026T010000
END:STANDARD
BEGIN:DAYLIGHT
TZOFFSETFROM:+0000
TZOFFSETTO:+0100
TZNAME:BST
DTSTART:20260329T010000
END:DAYLIGHT
BEGIN:STANDARD
TZOFFSETFROM:+0100
TZOFFSETTO:+0000
TZNAME:GMT
DTSTART:20261025T010000
END:STANDARD
END:VTIMEZONE
BEGIN:VEVENT
DTSTART;TZID=Europe/London:20251004T190000
DTEND;TZID=Europe/London:20251004T230000
DTSTAMP:20260423T213536
CREATED:20250202T171403Z
LAST-MODIFIED:20250208T090125Z
UID:8502-1759604400-1759618800@www.ridlingtonparishcouncil.org
SUMMARY:CURRY NIGHT
DESCRIPTION:We will be organising a Curry Night on Saturday\, October 4th at 7:00 pm  in the Village Hall. \nThere will be nibbles\, Chicken and Vegetable curry\, nan bread\, papadums\, followed by dessert. \nCharge will be £15.00 pp. Please bring your own drink along. \nIf you would like to join us\, please book and pay Pat Roome on 01572 821 416 or you can confirm to her by email on pat.roome@btinternet.com
URL:https://www.ridlingtonparishcouncil.org/event/curry-night/
LOCATION:Ridlington Village Hall\, Main Street\, Ridlington\, Rutland\, United Kingdom
CATEGORIES:Village Hall
END:VEVENT
END:VCALENDAR