BEGIN:VCALENDAR
VERSION:2.0
PRODID:-//Ridlington Parish Council - ECPv6.15.20//NONSGML v1.0//EN
CALSCALE:GREGORIAN
METHOD:PUBLISH
X-ORIGINAL-URL:https://www.ridlingtonparishcouncil.org
X-WR-CALDESC:Events for Ridlington Parish Council
REFRESH-INTERVAL;VALUE=DURATION:PT1H
X-Robots-Tag:noindex
X-PUBLISHED-TTL:PT1H
BEGIN:VTIMEZONE
TZID:Europe/London
BEGIN:DAYLIGHT
TZOFFSETFROM:+0000
TZOFFSETTO:+0100
TZNAME:BST
DTSTART:20240331T010000
END:DAYLIGHT
BEGIN:STANDARD
TZOFFSETFROM:+0100
TZOFFSETTO:+0000
TZNAME:GMT
DTSTART:20241027T010000
END:STANDARD
BEGIN:DAYLIGHT
TZOFFSETFROM:+0000
TZOFFSETTO:+0100
TZNAME:BST
DTSTART:20250330T010000
END:DAYLIGHT
BEGIN:STANDARD
TZOFFSETFROM:+0100
TZOFFSETTO:+0000
TZNAME:GMT
DTSTART:20251026T010000
END:STANDARD
BEGIN:DAYLIGHT
TZOFFSETFROM:+0000
TZOFFSETTO:+0100
TZNAME:BST
DTSTART:20260329T010000
END:DAYLIGHT
BEGIN:STANDARD
TZOFFSETFROM:+0100
TZOFFSETTO:+0000
TZNAME:GMT
DTSTART:20261025T010000
END:STANDARD
END:VTIMEZONE
BEGIN:VEVENT
DTSTART;VALUE=DATE:20251111
DTEND;VALUE=DATE:20251112
DTSTAMP:20260424T024929
CREATED:20251030T173324Z
LAST-MODIFIED:20251030T173324Z
UID:9516-1762819200-1762905599@www.ridlingtonparishcouncil.org
SUMMARY:QUINQUENNIAL INSPECTION
DESCRIPTION:Every five years the Parochial Church Council is required to appoint a surveyor or architect to undertake a thorough inspection of the church building to identify needed repairs and maintenance. \nThis will take place today. The work will include a drone survey. \n 
URL:https://www.ridlingtonparishcouncil.org/event/quinquennial-inspection/
LOCATION:Ridlington Church
CATEGORIES:The Church
END:VEVENT
END:VCALENDAR