BEGIN:VCALENDAR
VERSION:2.0
PRODID:-//Ridlington Parish Council - ECPv6.15.20//NONSGML v1.0//EN
CALSCALE:GREGORIAN
METHOD:PUBLISH
X-ORIGINAL-URL:https://www.ridlingtonparishcouncil.org
X-WR-CALDESC:Events for Ridlington Parish Council
REFRESH-INTERVAL;VALUE=DURATION:PT1H
X-Robots-Tag:noindex
X-PUBLISHED-TTL:PT1H
BEGIN:VTIMEZONE
TZID:Europe/London
BEGIN:DAYLIGHT
TZOFFSETFROM:+0000
TZOFFSETTO:+0100
TZNAME:BST
DTSTART:20240331T010000
END:DAYLIGHT
BEGIN:STANDARD
TZOFFSETFROM:+0100
TZOFFSETTO:+0000
TZNAME:GMT
DTSTART:20241027T010000
END:STANDARD
BEGIN:DAYLIGHT
TZOFFSETFROM:+0000
TZOFFSETTO:+0100
TZNAME:BST
DTSTART:20250330T010000
END:DAYLIGHT
BEGIN:STANDARD
TZOFFSETFROM:+0100
TZOFFSETTO:+0000
TZNAME:GMT
DTSTART:20251026T010000
END:STANDARD
BEGIN:DAYLIGHT
TZOFFSETFROM:+0000
TZOFFSETTO:+0100
TZNAME:BST
DTSTART:20260329T010000
END:DAYLIGHT
BEGIN:STANDARD
TZOFFSETFROM:+0100
TZOFFSETTO:+0000
TZNAME:GMT
DTSTART:20261025T010000
END:STANDARD
END:VTIMEZONE
BEGIN:VEVENT
DTSTART;TZID=Europe/London:20251122T100000
DTEND;TZID=Europe/London:20251122T170000
DTSTAMP:20260424T024943
CREATED:20251030T173720Z
LAST-MODIFIED:20251030T173720Z
UID:9521-1763805600-1763830800@www.ridlingtonparishcouncil.org
SUMMARY:MONTHLY WALK
DESCRIPTION:Today is our monthly walk. \nAs usual we will meet at the church porch at 10:00 to walk to Preston to visit the Christmas Market \n 
URL:https://www.ridlingtonparishcouncil.org/event/monthly-walk-7/
LOCATION:Ridlington Church
CATEGORIES:General,The Church
END:VEVENT
END:VCALENDAR