BEGIN:VCALENDAR
VERSION:2.0
PRODID:-//Ridlington Parish Council - ECPv6.15.20//NONSGML v1.0//EN
CALSCALE:GREGORIAN
METHOD:PUBLISH
X-WR-CALNAME:Ridlington Parish Council
X-ORIGINAL-URL:https://www.ridlingtonparishcouncil.org
X-WR-CALDESC:Events for Ridlington Parish Council
REFRESH-INTERVAL;VALUE=DURATION:PT1H
X-Robots-Tag:noindex
X-PUBLISHED-TTL:PT1H
BEGIN:VTIMEZONE
TZID:Europe/London
BEGIN:DAYLIGHT
TZOFFSETFROM:+0000
TZOFFSETTO:+0100
TZNAME:BST
DTSTART:20250330T010000
END:DAYLIGHT
BEGIN:STANDARD
TZOFFSETFROM:+0100
TZOFFSETTO:+0000
TZNAME:GMT
DTSTART:20251026T010000
END:STANDARD
BEGIN:DAYLIGHT
TZOFFSETFROM:+0000
TZOFFSETTO:+0100
TZNAME:BST
DTSTART:20260329T010000
END:DAYLIGHT
BEGIN:STANDARD
TZOFFSETFROM:+0100
TZOFFSETTO:+0000
TZNAME:GMT
DTSTART:20261025T010000
END:STANDARD
BEGIN:DAYLIGHT
TZOFFSETFROM:+0000
TZOFFSETTO:+0100
TZNAME:BST
DTSTART:20270328T010000
END:DAYLIGHT
BEGIN:STANDARD
TZOFFSETFROM:+0100
TZOFFSETTO:+0000
TZNAME:GMT
DTSTART:20271031T010000
END:STANDARD
END:VTIMEZONE
BEGIN:VEVENT
DTSTART;TZID=Europe/London:20260509T120000
DTEND;TZID=Europe/London:20260509T133000
DTSTAMP:20260424T114226
CREATED:20260420T163652Z
LAST-MODIFIED:20260420T163652Z
UID:10180-1778328000-1778333400@www.ridlingtonparishcouncil.org
SUMMARY:SOCIAL SATURDAY
DESCRIPTION:Please join us for another Social Saturday. We will be serving jacket potatoes with a choice of fillings. \nWe ask for a minimum donation of £5 towards the insurance premium for the church.
URL:https://www.ridlingtonparishcouncil.org/event/social-saturday/
LOCATION:Ridlington Village Hall\, Main Street\, Ridlington\, Rutland\, United Kingdom
CATEGORIES:General,Village Hall
END:VEVENT
END:VCALENDAR