BEGIN:VCALENDAR
VERSION:2.0
PRODID:-//Ridlington Parish Council - ECPv6.15.20//NONSGML v1.0//EN
CALSCALE:GREGORIAN
METHOD:PUBLISH
X-ORIGINAL-URL:https://www.ridlingtonparishcouncil.org
X-WR-CALDESC:Events for Ridlington Parish Council
REFRESH-INTERVAL;VALUE=DURATION:PT1H
X-Robots-Tag:noindex
X-PUBLISHED-TTL:PT1H
BEGIN:VTIMEZONE
TZID:Europe/London
BEGIN:DAYLIGHT
TZOFFSETFROM:+0000
TZOFFSETTO:+0100
TZNAME:BST
DTSTART:20250330T010000
END:DAYLIGHT
BEGIN:STANDARD
TZOFFSETFROM:+0100
TZOFFSETTO:+0000
TZNAME:GMT
DTSTART:20251026T010000
END:STANDARD
BEGIN:DAYLIGHT
TZOFFSETFROM:+0000
TZOFFSETTO:+0100
TZNAME:BST
DTSTART:20260329T010000
END:DAYLIGHT
BEGIN:STANDARD
TZOFFSETFROM:+0100
TZOFFSETTO:+0000
TZNAME:GMT
DTSTART:20261025T010000
END:STANDARD
BEGIN:DAYLIGHT
TZOFFSETFROM:+0000
TZOFFSETTO:+0100
TZNAME:BST
DTSTART:20270328T010000
END:DAYLIGHT
BEGIN:STANDARD
TZOFFSETFROM:+0100
TZOFFSETTO:+0000
TZNAME:GMT
DTSTART:20271031T010000
END:STANDARD
END:VTIMEZONE
BEGIN:VEVENT
DTSTART;TZID=Europe/London:20260515T183000
DTEND;TZID=Europe/London:20260515T193000
DTSTAMP:20260421T172418
CREATED:20260420T163257Z
LAST-MODIFIED:20260420T163257Z
UID:10177-1778869800-1778873400@www.ridlingtonparishcouncil.org
SUMMARY:MONTHLY WALK - PRIOR'S COPPICE
DESCRIPTION:This walk will be more nature spotting –  join us for a bluebell walk on this evening of Endangered Species Day. \nWe will meet up at Prior’s Coppice car park\, LE15 8DB. \nWe will endeavour to car share\,  so please let Debra know if you intend to come. \nPrior’s Coppice is a woodland reserve teeming with wildlife and ancient atmosphere\, Prior’s Coppice is a relic of the wildwood that once covered all of Leicestershire and Rutland. When you step beneath the trees\, you can feel how old this remnant of woodland is. Some of the trees are several hundred years old and centuries of management have led to an ideal habitat for birds\, beasts and butterflies (and botanists!).
URL:https://www.ridlingtonparishcouncil.org/event/monthly-walk-priors-coppice/
LOCATION:Rutland
CATEGORIES:General,The Church
END:VEVENT
BEGIN:VEVENT
DTSTART;TZID=Europe/London:20260516T193000
DTEND;TZID=Europe/London:20260516T213000
DTSTAMP:20260421T172418
CREATED:20260420T162621Z
LAST-MODIFIED:20260420T162621Z
UID:10171-1778959800-1778967000@www.ridlingtonparishcouncil.org
SUMMARY:ALL AROUND MY HAT - (AND ALL THAT JAZZ)
DESCRIPTION:The Ridlington Singers present an informal concert in Ridlington church tonight. \nGlasses will be provided if you wish to bring your own refreshment. \nAll donations raised will go towards MND research and church funds. \n 
URL:https://www.ridlingtonparishcouncil.org/event/all-around-my-hat-and-all-that-jazz/
LOCATION:Ridlington Church
CATEGORIES:The Church
END:VEVENT
BEGIN:VEVENT
DTSTART;TZID=Europe/London:20260519T180000
DTEND;TZID=Europe/London:20260519T200000
DTSTAMP:20260421T172418
CREATED:20250527T165744Z
LAST-MODIFIED:20250527T165744Z
UID:9062-1779213600-1779220800@www.ridlingtonparishcouncil.org
SUMMARY:RIDLINGTON PARISH COUNCIL MEETING
DESCRIPTION:All members of the public are welcome to attend.
URL:https://www.ridlingtonparishcouncil.org/event/ridlington-parish-council-meeting-3/
LOCATION:Ridlington Village Hall\, Main Street\, Ridlington\, Rutland\, United Kingdom
CATEGORIES:Parish Council
END:VEVENT
BEGIN:VEVENT
DTSTART;TZID=Europe/London:20260521T190000
DTEND;TZID=Europe/London:20260521T210000
DTSTAMP:20260421T172418
CREATED:20260420T162155Z
LAST-MODIFIED:20260420T162155Z
UID:10166-1779390000-1779397200@www.ridlingtonparishcouncil.org
SUMMARY:RIDLINGTON ANNUAL PAROCHIAL CHURCH MEETING
DESCRIPTION:The Annual Parochial Church meeting will be held for the consideration of reports and financial statements and the election of officers. \nAll welcome to attend to learn more about what is happening and to contribute ideas. \n 
URL:https://www.ridlingtonparishcouncil.org/event/ridlington-annual-parochial-church-meeting/
LOCATION:Ridlington Church
CATEGORIES:The Church
END:VEVENT
BEGIN:VEVENT
DTSTART;VALUE=DATE:20260610
DTEND;VALUE=DATE:20260611
DTSTAMP:20260421T172418
CREATED:20260420T165434Z
LAST-MODIFIED:20260420T165434Z
UID:10184-1781049600-1781135999@www.ridlingtonparishcouncil.org
SUMMARY:CHURCHES COUNT ON NATURE BIO BLITZ
DESCRIPTION:Help us to track biodiversity in the churchyard.  Spring is a perfect time to spot nesting birds\, insects and flowering plants.  Please continue to jot down what you see on the Biodiversity List in the church porch. \n 
URL:https://www.ridlingtonparishcouncil.org/event/churches-count-on-nature-bio-blitz/
LOCATION:Ridlington Church
CATEGORIES:The Church
END:VEVENT
BEGIN:VEVENT
DTSTART;TZID=Europe/London:20260717T103000
DTEND;TZID=Europe/London:20260717T123000
DTSTAMP:20260421T172418
CREATED:20260114T121805Z
LAST-MODIFIED:20260114T121805Z
UID:9775-1784284200-1784291400@www.ridlingtonparishcouncil.org
SUMMARY:VILLAGE HALL COFFEE MORNIING
DESCRIPTION:Come and join us for a social get together over a cup of coffee or tea. There will be a selection of scrumptious homemade cakes on offer.
URL:https://www.ridlingtonparishcouncil.org/event/village-hall-coffee-morniing/
LOCATION:Ridlington Village Hall\, Main Street\, Ridlington\, Rutland\, United Kingdom
CATEGORIES:Village Hall
END:VEVENT
BEGIN:VEVENT
DTSTART;TZID=Europe/London:20260925T103000
DTEND;TZID=Europe/London:20260925T123000
DTSTAMP:20260421T172418
CREATED:20260114T122122Z
LAST-MODIFIED:20260114T122122Z
UID:9779-1790332200-1790339400@www.ridlingtonparishcouncil.org
SUMMARY:VILLAGE HALL COFFEE MORNING
DESCRIPTION:Come and join us for a social get together over a cup of coffee or tea. There will be a selection of scrumptious homemade cakes on offer.
URL:https://www.ridlingtonparishcouncil.org/event/village-hall-coffee-morning-5/
LOCATION:Ridlington Village Hall\, Main Street\, Ridlington\, Rutland\, United Kingdom
CATEGORIES:Village Hall
END:VEVENT
BEGIN:VEVENT
DTSTART;TZID=Europe/London:20261003T190000
DTEND;TZID=Europe/London:20261003T230000
DTSTAMP:20260421T172418
CREATED:20260114T122427Z
LAST-MODIFIED:20260114T122427Z
UID:9782-1791054000-1791068400@www.ridlingtonparishcouncil.org
SUMMARY:CURRY EVENING
DESCRIPTION:Back by popular demand. We look forward to seeing you all again. \n 
URL:https://www.ridlingtonparishcouncil.org/event/curry-evening/
LOCATION:Ridlington Village Hall\, Main Street\, Ridlington\, Rutland\, United Kingdom
CATEGORIES:Village Hall
END:VEVENT
BEGIN:VEVENT
DTSTART;VALUE=DATE:20261107
DTEND;VALUE=DATE:20261108
DTSTAMP:20260421T172418
CREATED:20260216T095914Z
LAST-MODIFIED:20260216T095914Z
UID:9879-1794009600-1794095999@www.ridlingtonparishcouncil.org
SUMMARY:RBL POPPY APPEAL 2026
DESCRIPTION:As a yearly fixture in Ridlington’s events diary\, this year’s RBL Poppy Appeal will be held on today\, November 7th. \nSo save the date and stay tuned for more details to drop into your Postbox! Your village needs YOU!
URL:https://www.ridlingtonparishcouncil.org/event/rbl-poppy-appeal-2026/
LOCATION:Ridlington Village Hall\, Main Street\, Ridlington\, Rutland\, United Kingdom
CATEGORIES:General,Village Hall
END:VEVENT
BEGIN:VEVENT
DTSTART;TZID=Europe/London:20261218T190000
DTEND;TZID=Europe/London:20261218T223000
DTSTAMP:20260421T172418
CREATED:20260114T122856Z
LAST-MODIFIED:20260114T123503Z
UID:9785-1797620400-1797633000@www.ridlingtonparishcouncil.org
SUMMARY:CHRISTMAS SOCIAL EVENING
DESCRIPTION:Get into that festive cheer. Join us for a few drinks and nibbles. There will be a variety of wines\, beers\, and non alcoholic drinks available. \nAll Welcome\, children to be accompanied by an adult. \n 
URL:https://www.ridlingtonparishcouncil.org/event/social-evening/
LOCATION:Ridlington Village Hall\, Main Street\, Ridlington\, Rutland\, United Kingdom
CATEGORIES:Village Hall
END:VEVENT
END:VCALENDAR