BEGIN:VCALENDAR
VERSION:2.0
PRODID:-//Ridlington Parish Council - ECPv6.15.20//NONSGML v1.0//EN
CALSCALE:GREGORIAN
METHOD:PUBLISH
X-ORIGINAL-URL:https://www.ridlingtonparishcouncil.org
X-WR-CALDESC:Events for Ridlington Parish Council
REFRESH-INTERVAL;VALUE=DURATION:PT1H
X-Robots-Tag:noindex
X-PUBLISHED-TTL:PT1H
BEGIN:VTIMEZONE
TZID:Europe/London
BEGIN:DAYLIGHT
TZOFFSETFROM:+0000
TZOFFSETTO:+0100
TZNAME:BST
DTSTART:20240331T010000
END:DAYLIGHT
BEGIN:STANDARD
TZOFFSETFROM:+0100
TZOFFSETTO:+0000
TZNAME:GMT
DTSTART:20241027T010000
END:STANDARD
BEGIN:DAYLIGHT
TZOFFSETFROM:+0000
TZOFFSETTO:+0100
TZNAME:BST
DTSTART:20250330T010000
END:DAYLIGHT
BEGIN:STANDARD
TZOFFSETFROM:+0100
TZOFFSETTO:+0000
TZNAME:GMT
DTSTART:20251026T010000
END:STANDARD
BEGIN:DAYLIGHT
TZOFFSETFROM:+0000
TZOFFSETTO:+0100
TZNAME:BST
DTSTART:20260329T010000
END:DAYLIGHT
BEGIN:STANDARD
TZOFFSETFROM:+0100
TZOFFSETTO:+0000
TZNAME:GMT
DTSTART:20261025T010000
END:STANDARD
END:VTIMEZONE
BEGIN:VEVENT
DTSTART;TZID=Europe/London:20250704T193000
DTEND;TZID=Europe/London:20250704T220000
DTSTAMP:20260423T173047
CREATED:20250521T110607Z
LAST-MODIFIED:20250521T110607Z
UID:8969-1751657400-1751666400@www.ridlingtonparishcouncil.org
SUMMARY:ANYTHING GOES!
DESCRIPTION:Save the Date – Friday 4th July at 7.30pm \nVenue – Ridlington Church \nThe Ridlington Singers present an informal concert of ‘Songs from the Shows’ – music from Cole Porter to Elton John… \nGlasses will be provided if you wish to bring your own refreshment. \nDonations in aid of LOROS and church funds.
URL:https://www.ridlingtonparishcouncil.org/event/anything-goes/
LOCATION:Ridlington Church
CATEGORIES:The Church
END:VEVENT
BEGIN:VEVENT
DTSTART;TZID=Europe/London:20250718T100000
DTEND;TZID=Europe/London:20250718T120000
DTSTAMP:20260423T173047
CREATED:20250202T172343Z
LAST-MODIFIED:20250202T174404Z
UID:8515-1752832800-1752840000@www.ridlingtonparishcouncil.org
SUMMARY:VILLAGE HALL COFFEE MORNING
DESCRIPTION:Come join us for a social get together. Coffee and Teas will be available along with a large selection of delicious homemade cakes. \nAll proceeds go towards the upkeep of the Village Hall.
URL:https://www.ridlingtonparishcouncil.org/event/village-hall-coffee-morning-2/
LOCATION:Ridlington Village Hall\, Main Street\, Ridlington\, Rutland\, United Kingdom
CATEGORIES:Village Hall
ATTACH;FMTTYPE=image/jpeg:https://www.ridlingtonparishcouncil.org/wp-content/uploads/2017/06/Cake-and-Coffee-at-Ridlington-Village-Hall-e1549366913131.jpg
END:VEVENT
BEGIN:VEVENT
DTSTART;TZID=Europe/London:20250726T100000
DTEND;TZID=Europe/London:20250726T170000
DTSTAMP:20260423T173047
CREATED:20250712T162155Z
LAST-MODIFIED:20250712T162155Z
UID:9167-1753524000-1753549200@www.ridlingtonparishcouncil.org
SUMMARY:MONTHLY WALK
DESCRIPTION:Something a little different – an excursion to see the ospreys. \nMeet at the Church at 10:00 before driving to the Rutland Water Nature Reserve. \nThere will be a charge of £6.00 per person. For details\, please contact Jacky Morrell or Debra Thatcher. \n 
URL:https://www.ridlingtonparishcouncil.org/event/monthly-walk-4/
LOCATION:Ridlington Church
CATEGORIES:General,The Church
END:VEVENT
END:VCALENDAR